BEGIN:VCALENDAR
VERSION:2.0
METHOD:PUBLISH
PRODID:-//imacoda.com//SPD-Web-O-Mat//EN
CALSCALE:GREGORIAN
BEGIN:VTIMEZONE
TZID:Europe/Berlin
BEGIN:DAYLIGHT
TZOFFSETFROM:+0100
RRULE:FREQ=YEARLY;BYMONTH=3;BYDAY=-1SU
DTSTART:19810329T020000
TZNAME:MESZ
TZOFFSETTO:+0200
END:DAYLIGHT
BEGIN:STANDARD
TZOFFSETFROM:+0200
RRULE:FREQ=YEARLY;BYMONTH=10;BYDAY=-1SU
DTSTART:19961027T030000
TZNAME:MEZ
TZOFFSETTO:+0100
END:STANDARD
END:VTIMEZONE
BEGIN:VEVENT
UID:20230308T122418Z-00000900060-LULU@www.bayernspd.de
CREATED:20230308T122418Z
LAST-MODIFIED:20230401T172924Z
DTSTAMP:20230401T172924Z
TRANSP:TRANSPARENT
DTSTART;TZID=Europe/Berlin:20230402T140000
DTEND;TZID=Europe/Berlin:20230402T160000
SUMMARY:Ostereiersuchen mit der SPD
LOCATION:ABGESAGT!
DESCRIPTION:Termin im Web (SPD Ebersberg):\nhttps://spd-ebersberg.de/ter
 mine/?id=900060
END:VEVENT
END:VCALENDAR
